BEGIN:VCALENDAR
VERSION:2.0
PRODID:-//Creative Artists - ECPv6.15.20//NONSGML v1.0//EN
CALSCALE:GREGORIAN
METHOD:PUBLISH
X-ORIGINAL-URL:https://creativeartistsiowa.org
X-WR-CALDESC:Events for Creative Artists
REFRESH-INTERVAL;VALUE=DURATION:PT1H
X-Robots-Tag:noindex
X-PUBLISHED-TTL:PT1H
BEGIN:VTIMEZONE
TZID:America/Chicago
BEGIN:DAYLIGHT
TZOFFSETFROM:-0600
TZOFFSETTO:-0500
TZNAME:CDT
DTSTART:20240310T080000
END:DAYLIGHT
BEGIN:STANDARD
TZOFFSETFROM:-0500
TZOFFSETTO:-0600
TZNAME:CST
DTSTART:20241103T070000
END:STANDARD
BEGIN:DAYLIGHT
TZOFFSETFROM:-0600
TZOFFSETTO:-0500
TZNAME:CDT
DTSTART:20250309T080000
END:DAYLIGHT
BEGIN:STANDARD
TZOFFSETFROM:-0500
TZOFFSETTO:-0600
TZNAME:CST
DTSTART:20251102T070000
END:STANDARD
BEGIN:DAYLIGHT
TZOFFSETFROM:-0600
TZOFFSETTO:-0500
TZNAME:CDT
DTSTART:20260308T080000
END:DAYLIGHT
BEGIN:STANDARD
TZOFFSETFROM:-0500
TZOFFSETTO:-0600
TZNAME:CST
DTSTART:20261101T070000
END:STANDARD
END:VTIMEZONE
BEGIN:VEVENT
DTSTART;TZID=America/Chicago:20250807T080000
DTEND;TZID=America/Chicago:20250807T143000
DTSTAMP:20260420T155625
CREATED:20250720T210639Z
LAST-MODIFIED:20250805T004114Z
UID:895-1754553600-1754577000@creativeartistsiowa.org
SUMMARY:Figge Museum Field Trip
DESCRIPTION:Creative Artists will head to the Figge Museum by carpool on Thursday\, August 7. Carpools will leave from the City parking lot across the street from the Marion Heritage Center between 8 and 8:15. If you wish to go but do not have a ride\, please contact Jane Nelson. \nThe tour will be from 10-11:30 or so. The group will decide on a lunch destination in Davenport for those interested.
URL:https://creativeartistsiowa.org/event/figge-museum-fieldtrip/
LOCATION:Figge Art Museum\, 225 W Second St\, Davenport\, IA\, United States
CATEGORIES:Activity
END:VEVENT
BEGIN:VEVENT
DTSTART;TZID=America/Chicago:20250811T183000
DTEND;TZID=America/Chicago:20250811T203000
DTSTAMP:20260420T155625
CREATED:20241113T225303Z
LAST-MODIFIED:20250321T005708Z
UID:631-1754937000-1754944200@creativeartistsiowa.org
SUMMARY:Creative Artists Monthly Meeting & Showcase
DESCRIPTION:Following a short business meeting\, there will be a Showcase presentation by Elaine Peyton. \n\n\nWe look forward to seeing you. Guests are always welcome. Contact us at creativeartistsiowa@gmail.com if you have any questions.
URL:https://creativeartistsiowa.org/event/creative-artists-monthly-meeting-showcase-8/
LOCATION:Eastern Iowa Arts Academy\, 2630 B Avenue NE\, Cedar Rapids\, IA\, 52402\, United States
CATEGORIES:Meeting
END:VEVENT
END:VCALENDAR