BEGIN:VCALENDAR
VERSION:2.0
PRODID:-//Creative Artists - ECPv6.15.20//NONSGML v1.0//EN
CALSCALE:GREGORIAN
METHOD:PUBLISH
X-ORIGINAL-URL:https://creativeartistsiowa.org
X-WR-CALDESC:Events for Creative Artists
REFRESH-INTERVAL;VALUE=DURATION:PT1H
X-Robots-Tag:noindex
X-PUBLISHED-TTL:PT1H
BEGIN:VTIMEZONE
TZID:America/Chicago
BEGIN:DAYLIGHT
TZOFFSETFROM:-0600
TZOFFSETTO:-0500
TZNAME:CDT
DTSTART:20250309T080000
END:DAYLIGHT
BEGIN:STANDARD
TZOFFSETFROM:-0500
TZOFFSETTO:-0600
TZNAME:CST
DTSTART:20251102T070000
END:STANDARD
BEGIN:DAYLIGHT
TZOFFSETFROM:-0600
TZOFFSETTO:-0500
TZNAME:CDT
DTSTART:20260308T080000
END:DAYLIGHT
BEGIN:STANDARD
TZOFFSETFROM:-0500
TZOFFSETTO:-0600
TZNAME:CST
DTSTART:20261101T070000
END:STANDARD
BEGIN:DAYLIGHT
TZOFFSETFROM:-0600
TZOFFSETTO:-0500
TZNAME:CDT
DTSTART:20270314T080000
END:DAYLIGHT
BEGIN:STANDARD
TZOFFSETFROM:-0500
TZOFFSETTO:-0600
TZNAME:CST
DTSTART:20271107T070000
END:STANDARD
END:VTIMEZONE
BEGIN:VEVENT
DTSTART;TZID=America/Chicago:20260209T183000
DTEND;TZID=America/Chicago:20260209T203000
DTSTAMP:20260423T065618
CREATED:20251124T173047Z
LAST-MODIFIED:20251231T184854Z
UID:933-1770661800-1770669000@creativeartistsiowa.org
SUMMARY:Creative Artists Monthly Meeting
DESCRIPTION:Monthly meeting followed by mixed  media artist\, Dori Patrick. Dori will discuss her work and answer questions from the membership. To see her work and learn more\, visit: \nhttps://www.doripatrickart.com/
URL:https://creativeartistsiowa.org/event/creative-artists-monthly-meeting-2/
LOCATION:Eastern Iowa Arts Academy\, 2630 B Avenue NE\, Cedar Rapids\, IA\, 52402\, United States
CATEGORIES:Meeting
END:VEVENT
BEGIN:VEVENT
DTSTART;TZID=America/Chicago:20260309T183000
DTEND;TZID=America/Chicago:20260309T203000
DTSTAMP:20260423T065618
CREATED:20251231T182853Z
LAST-MODIFIED:20260219T171737Z
UID:945-1773081000-1773088200@creativeartistsiowa.org
SUMMARY:Creative Artists Monthly Meeting
DESCRIPTION:Monthly meeting followed by artist showcase by Judy Harford: “Correcting Composition Mistakes”
URL:https://creativeartistsiowa.org/event/creative-artists-monthly-meeting-5/
LOCATION:Eastern Iowa Arts Academy\, 2630 B Avenue NE\, Cedar Rapids\, IA\, 52402\, United States
CATEGORIES:Meeting
END:VEVENT
BEGIN:VEVENT
DTSTART;TZID=America/Chicago:20260413T183000
DTEND;TZID=America/Chicago:20260413T203000
DTSTAMP:20260423T065618
CREATED:20251231T183014Z
LAST-MODIFIED:20260220T155231Z
UID:947-1776105000-1776112200@creativeartistsiowa.org
SUMMARY:Creative Artists Monthly Meeting
DESCRIPTION:Monthly meeting followed by artist showcase by artist\, Bob Peterson. This showcase will cover the Works Progress Administration and other New Deal Iowa Murals.
URL:https://creativeartistsiowa.org/event/creative-artists-monthly-meeting-6/
LOCATION:Eastern Iowa Arts Academy\, 2630 B Avenue NE\, Cedar Rapids\, IA\, 52402\, United States
CATEGORIES:Meeting
END:VEVENT
BEGIN:VEVENT
DTSTART;TZID=America/Chicago:20260511T183000
DTEND;TZID=America/Chicago:20260511T203000
DTSTAMP:20260423T065618
CREATED:20251231T183126Z
LAST-MODIFIED:20251231T183126Z
UID:949-1778524200-1778531400@creativeartistsiowa.org
SUMMARY:Creative Artists Monthly Meeting
DESCRIPTION:Monthly meeting followed by artist showcase.
URL:https://creativeartistsiowa.org/event/creative-artists-monthly-meeting-7/
LOCATION:Eastern Iowa Arts Academy\, 2630 B Avenue NE\, Cedar Rapids\, IA\, 52402\, United States
CATEGORIES:Meeting
END:VEVENT
BEGIN:VEVENT
DTSTART;TZID=America/Chicago:20260608T183000
DTEND;TZID=America/Chicago:20260608T203000
DTSTAMP:20260423T065618
CREATED:20251231T183436Z
LAST-MODIFIED:20251231T183436Z
UID:951-1780943400-1780950600@creativeartistsiowa.org
SUMMARY:Creative Artists Monthly Meeting
DESCRIPTION:Monthly meeting followed by artist showcase.
URL:https://creativeartistsiowa.org/event/creative-artists-monthly-meeting-8/
LOCATION:Eastern Iowa Arts Academy\, 2630 B Avenue NE\, Cedar Rapids\, IA\, 52402\, United States
CATEGORIES:Meeting
END:VEVENT
BEGIN:VEVENT
DTSTART;TZID=America/Chicago:20260713T183000
DTEND;TZID=America/Chicago:20260713T203000
DTSTAMP:20260423T065618
CREATED:20251231T183545Z
LAST-MODIFIED:20251231T183545Z
UID:953-1783967400-1783974600@creativeartistsiowa.org
SUMMARY:Creative Artists Monthly Meeting
DESCRIPTION:Monthly meeting followed by artist showcase.
URL:https://creativeartistsiowa.org/event/creative-artists-monthly-meeting-9/
LOCATION:Eastern Iowa Arts Academy\, 2630 B Avenue NE\, Cedar Rapids\, IA\, 52402\, United States
CATEGORIES:Meeting
END:VEVENT
BEGIN:VEVENT
DTSTART;TZID=America/Chicago:20260810T183000
DTEND;TZID=America/Chicago:20260810T203000
DTSTAMP:20260423T065618
CREATED:20251231T183650Z
LAST-MODIFIED:20251231T183650Z
UID:955-1786386600-1786393800@creativeartistsiowa.org
SUMMARY:Creative Artists Monthly Meeting
DESCRIPTION:Monthly meeting followed by artist showcase.
URL:https://creativeartistsiowa.org/event/creative-artists-monthly-meeting-10/
LOCATION:Eastern Iowa Arts Academy\, 2630 B Avenue NE\, Cedar Rapids\, IA\, 52402\, United States
CATEGORIES:Meeting
END:VEVENT
BEGIN:VEVENT
DTSTART;TZID=America/Chicago:20260914T183000
DTEND;TZID=America/Chicago:20260914T203000
DTSTAMP:20260423T065618
CREATED:20251231T183932Z
LAST-MODIFIED:20251231T183932Z
UID:959-1789410600-1789417800@creativeartistsiowa.org
SUMMARY:Creative Artists Monthly Meeting
DESCRIPTION:Monthly meeting followed by artist showcase.
URL:https://creativeartistsiowa.org/event/creative-artists-monthly-meeting-12/
LOCATION:Eastern Iowa Arts Academy\, 2630 B Avenue NE\, Cedar Rapids\, IA\, 52402\, United States
CATEGORIES:Meeting
END:VEVENT
BEGIN:VEVENT
DTSTART;TZID=America/Chicago:20261012T183000
DTEND;TZID=America/Chicago:20261012T203000
DTSTAMP:20260423T065618
CREATED:20251231T184030Z
LAST-MODIFIED:20251231T184030Z
UID:961-1791829800-1791837000@creativeartistsiowa.org
SUMMARY:Creative Artists Monthly Meeting
DESCRIPTION:Monthly meeting followed by artist showcase.
URL:https://creativeartistsiowa.org/event/creative-artists-monthly-meeting-13/
LOCATION:Eastern Iowa Arts Academy\, 2630 B Avenue NE\, Cedar Rapids\, IA\, 52402\, United States
CATEGORIES:Meeting
END:VEVENT
BEGIN:VEVENT
DTSTART;TZID=America/Chicago:20261109T183000
DTEND;TZID=America/Chicago:20261109T203000
DTSTAMP:20260423T065618
CREATED:20251231T184140Z
LAST-MODIFIED:20251231T184140Z
UID:963-1794249000-1794256200@creativeartistsiowa.org
SUMMARY:Creative Artists Monthly Meeting
DESCRIPTION:Monthly meeting followed by an artist showcase.
URL:https://creativeartistsiowa.org/event/creative-artists-monthly-meeting-14/
LOCATION:Eastern Iowa Arts Academy\, 2630 B Avenue NE\, Cedar Rapids\, IA\, 52402\, United States
CATEGORIES:Meeting
END:VEVENT
END:VCALENDAR